BEGIN:VCALENDAR
VERSION:2.0
PRODID:-//Spirit / Boeing Employees&#039; Association - ECPv6.15.20//NONSGML v1.0//EN
CALSCALE:GREGORIAN
METHOD:PUBLISH
X-WR-CALNAME:Spirit / Boeing Employees&#039; Association
X-ORIGINAL-URL:https://beatoday.com
X-WR-CALDESC:Events for Spirit / Boeing Employees&#039; Association
REFRESH-INTERVAL;VALUE=DURATION:PT1H
X-Robots-Tag:noindex
X-PUBLISHED-TTL:PT1H
BEGIN:VTIMEZONE
TZID:America/North_Dakota/Center
BEGIN:DAYLIGHT
TZOFFSETFROM:-0600
TZOFFSETTO:-0500
TZNAME:CDT
DTSTART:20250309T080000
END:DAYLIGHT
BEGIN:STANDARD
TZOFFSETFROM:-0500
TZOFFSETTO:-0600
TZNAME:CST
DTSTART:20251102T070000
END:STANDARD
BEGIN:DAYLIGHT
TZOFFSETFROM:-0600
TZOFFSETTO:-0500
TZNAME:CDT
DTSTART:20260308T080000
END:DAYLIGHT
BEGIN:STANDARD
TZOFFSETFROM:-0500
TZOFFSETTO:-0600
TZNAME:CST
DTSTART:20261101T070000
END:STANDARD
BEGIN:DAYLIGHT
TZOFFSETFROM:-0600
TZOFFSETTO:-0500
TZNAME:CDT
DTSTART:20270314T080000
END:DAYLIGHT
BEGIN:STANDARD
TZOFFSETFROM:-0500
TZOFFSETTO:-0600
TZNAME:CST
DTSTART:20271107T070000
END:STANDARD
END:VTIMEZONE
BEGIN:VEVENT
DTSTART;TZID=America/North_Dakota/Center:20260306T180000
DTEND;TZID=America/North_Dakota/Center:20260306T181500
DTSTAMP:20260421T212041
CREATED:20260114T191636Z
LAST-MODIFIED:20260309T141639Z
UID:12017-1772820000-1772820900@beatoday.com
SUMMARY:Paint & Wine Night
DESCRIPTION:  Paint & Wine Night – Rescheduled \nRescheduled to March 20\nMar. 6\, SBEA Lake Enclosed Pavilion\, 6:00 p.m. – 9:00 p.m. Bring your favorite beverage. We will provide the canvas\, paint supplies\, and snacks. Tickets are $30.00 and available at all SBEA stores. Hurry\, only 20 tickets will be sold. \n 
URL:https://beatoday.com/event/paint-wine-night-2/
LOCATION:SBEA Lake – Recreation Area – Enclosed Pavilion\, 4226 S Gold St\, United States
CATEGORIES:Event,SBEA Event
END:VEVENT
END:VCALENDAR