BEGIN:VCALENDAR
VERSION:2.0
PRODID:-//Spirit / Boeing Employees&#039; Association - ECPv6.15.20//NONSGML v1.0//EN
CALSCALE:GREGORIAN
METHOD:PUBLISH
X-WR-CALNAME:Spirit / Boeing Employees&#039; Association
X-ORIGINAL-URL:https://beatoday.com
X-WR-CALDESC:Events for Spirit / Boeing Employees&#039; Association
REFRESH-INTERVAL;VALUE=DURATION:PT1H
X-Robots-Tag:noindex
X-PUBLISHED-TTL:PT1H
BEGIN:VTIMEZONE
TZID:America/North_Dakota/Center
BEGIN:DAYLIGHT
TZOFFSETFROM:-0600
TZOFFSETTO:-0500
TZNAME:CDT
DTSTART:20250309T080000
END:DAYLIGHT
BEGIN:STANDARD
TZOFFSETFROM:-0500
TZOFFSETTO:-0600
TZNAME:CST
DTSTART:20251102T070000
END:STANDARD
BEGIN:DAYLIGHT
TZOFFSETFROM:-0600
TZOFFSETTO:-0500
TZNAME:CDT
DTSTART:20260308T080000
END:DAYLIGHT
BEGIN:STANDARD
TZOFFSETFROM:-0500
TZOFFSETTO:-0600
TZNAME:CST
DTSTART:20261101T070000
END:STANDARD
BEGIN:DAYLIGHT
TZOFFSETFROM:-0600
TZOFFSETTO:-0500
TZNAME:CDT
DTSTART:20270314T080000
END:DAYLIGHT
BEGIN:STANDARD
TZOFFSETFROM:-0500
TZOFFSETTO:-0600
TZNAME:CST
DTSTART:20271107T070000
END:STANDARD
END:VTIMEZONE
BEGIN:VTIMEZONE
TZID:America/Chicago
BEGIN:DAYLIGHT
TZOFFSETFROM:-0600
TZOFFSETTO:-0500
TZNAME:CDT
DTSTART:20250309T080000
END:DAYLIGHT
BEGIN:STANDARD
TZOFFSETFROM:-0500
TZOFFSETTO:-0600
TZNAME:CST
DTSTART:20251102T070000
END:STANDARD
BEGIN:DAYLIGHT
TZOFFSETFROM:-0600
TZOFFSETTO:-0500
TZNAME:CDT
DTSTART:20260308T080000
END:DAYLIGHT
BEGIN:STANDARD
TZOFFSETFROM:-0500
TZOFFSETTO:-0600
TZNAME:CST
DTSTART:20261101T070000
END:STANDARD
BEGIN:DAYLIGHT
TZOFFSETFROM:-0600
TZOFFSETTO:-0500
TZNAME:CDT
DTSTART:20270314T080000
END:DAYLIGHT
BEGIN:STANDARD
TZOFFSETFROM:-0500
TZOFFSETTO:-0600
TZNAME:CST
DTSTART:20271107T070000
END:STANDARD
END:VTIMEZONE
BEGIN:VEVENT
DTSTART;TZID=America/North_Dakota/Center:20260404T110000
DTEND;TZID=America/North_Dakota/Center:20260404T111500
DTSTAMP:20260421T113457
CREATED:20260303T174436Z
LAST-MODIFIED:20260306T200933Z
UID:12020-1775300400-1775301300@beatoday.com
SUMMARY:Look Who’s Hopping into Town
DESCRIPTION: Look Who’s Hopping into Town\nSBEA Annual Easter Celebration\nApril 4\, 11:00 a.m. – 2:30 p.m.\nSBEA Recreation Area\, 4226 S. Gold \n 11:00 a.m. – 2:00 p.m. Games\n11:00 a.m. – 2:00 p.m. Pictures w/ Easter Bunny\n11:00 a.m. – 2:00 p.m. Face Painting\n11:00 a.m. – 2:00 p.m. Character Artist\n11:00 a.m. – 2:00 p.m. 24’ Obstacle Course\n11:00 a.m. – 2:00 p.m. Decorate Cookies\n11:00 a.m. – 2:00 p.m. Midway Games\n11:00 a.m. – 2:00 p.m. Crafts\n11:00 a.m. – 2:00 p.m. Animal Rescue\n11:00 a.m. – 2:00 p.m. Mickey Park Moon bounce\n11:00 a.m. – 2:00 p.m. 10’ Slide\n11:00 a.m. – 2:00 p.m.  Mickey Park Learning Club\n11:00 a.m. – 2:00 p.m.  Tic Tac Toe/ Four Across\n11:00 a.m. – 2:00 p.m. Kid’s Zone\n11:00 a.m. – 2:00 p.m. Concession Stand\n2:15 p.m. – Candy run with Prizes (Ages 2-4. 5-7\, 8-10\, 11-12) \nPlan on spending April 4 at the SBEA Recreation Area for lots of fun events\, crafts\, Easter Bunny and more. Photos with the Easter Bunny will be available for $3.00 or $1.00 with your camera. The candy run will take place at 2:15 p.m. Some of the candy will be marked for special prizes. We will have concessions available to purchase food and drinks. \n   Volunteers Needed\nWe NEED volunteers to help make this a fun and safe event for the kids. SBEA’s Annual Easter Celebration is one of our member’s favorite activities every year. Activities include: games\, crafts\, jelly bean guess\, lollipop tree\, inflatables\, face painting\, decorate your own cookie\, spin-art\, pucker powder\, bubble fun\, concession stand and more. In order for this event (and other events throughout the year) to run smoothly\, we rely on volunteers to help us make this happen. Help us make this a fun and safe event for the kids by volunteering. Please contact Stephanie at 522-2996. Instant recognition given the day you volunteer.
URL:https://beatoday.com/event/kids-fishing-day-6-2/
LOCATION:SBEA Lake – Recreation Area – Enclosed Pavilion\, 4226 S Gold St\, United States
CATEGORIES:Family Events,SBEA Event
END:VEVENT
BEGIN:VEVENT
DTSTART;TZID=America/North_Dakota/Center:20260328T100000
DTEND;TZID=America/North_Dakota/Center:20260328T210000
DTSTAMP:20260421T113457
CREATED:20260303T174852Z
LAST-MODIFIED:20260309T142248Z
UID:12019-1774692000-1774731600@beatoday.com
SUMMARY:Urban Air Day
DESCRIPTION:   Urban Air Day\nMarch 28 – 2 1/2 Hours – All Access Pass \nEnjoy 2 ½ hours of fun at Urban Air Trampoline Park. Tickets are $12.00 for members which include a pair of socks available day of the event from Urban Air. You must buy your ticket in advance at any SBEA store location. Take the ticket and signed waiver form to the park any time during business hours 10:00 a.m. – 9:00 p.m. to receive your arm band(s) for 2 1/2 hours of fun. One arm band includes access to all trampoline attractions\, and the 2nd armband is good for a session of High Ropes Obstacle Course (height restrictions apply\, 50” or taller and gripper socks are required for the ropes course). All participants will need to have a signed waiver. Please be sure to go online to Urbanairwaiver.com to complete your waiver in advance. Urban Air Trampoline Park\, 8545 W. Irving St.\, Wichita. Tickets are on sale in all SBEA stores. \n 
URL:https://beatoday.com/event/urban-air-day/
LOCATION:Urban Air Trampoline Park\, 8545 W. Irving St.\, United States
CATEGORIES:Family Events,SBEA Event
END:VEVENT
BEGIN:VEVENT
DTSTART;TZID=America/Chicago:20260320T180000
DTEND;TZID=America/Chicago:20260320T203000
DTSTAMP:20260421T113457
CREATED:20260309T141926Z
LAST-MODIFIED:20260309T141946Z
UID:12076-1774029600-1774038600@beatoday.com
SUMMARY:Paint & Wine Night - Rescheduled from March 6
DESCRIPTION:  Paint & Wine Night – Rescheduled \nRescheduled to March 20\nSBEA Lake Enclosed Pavilion\, 6:00 p.m. – 9:00 p.m. Bring your favorite beverage. We will provide the canvas\, paint supplies\, and snacks. Tickets are $30.00 and available at all SBEA stores. Hurry\, only 20 tickets will be sold. \n 
URL:https://beatoday.com/event/12076/
LOCATION:SBEA Lake – Enclosed Pavilion\, 4226 S Gold\, United States
CATEGORIES:Family Events,SBEA Event
END:VEVENT
END:VCALENDAR