BEGIN:VCALENDAR
VERSION:2.0
PRODID:-//Spirit / Boeing Employees&#039; Association - ECPv6.15.20//NONSGML v1.0//EN
CALSCALE:GREGORIAN
METHOD:PUBLISH
X-ORIGINAL-URL:https://beatoday.com
X-WR-CALDESC:Events for Spirit / Boeing Employees&#039; Association
REFRESH-INTERVAL;VALUE=DURATION:PT1H
X-Robots-Tag:noindex
X-PUBLISHED-TTL:PT1H
BEGIN:VTIMEZONE
TZID:America/North_Dakota/Center
BEGIN:DAYLIGHT
TZOFFSETFROM:-0600
TZOFFSETTO:-0500
TZNAME:CDT
DTSTART:20250309T080000
END:DAYLIGHT
BEGIN:STANDARD
TZOFFSETFROM:-0500
TZOFFSETTO:-0600
TZNAME:CST
DTSTART:20251102T070000
END:STANDARD
BEGIN:DAYLIGHT
TZOFFSETFROM:-0600
TZOFFSETTO:-0500
TZNAME:CDT
DTSTART:20260308T080000
END:DAYLIGHT
BEGIN:STANDARD
TZOFFSETFROM:-0500
TZOFFSETTO:-0600
TZNAME:CST
DTSTART:20261101T070000
END:STANDARD
BEGIN:DAYLIGHT
TZOFFSETFROM:-0600
TZOFFSETTO:-0500
TZNAME:CDT
DTSTART:20270314T080000
END:DAYLIGHT
BEGIN:STANDARD
TZOFFSETFROM:-0500
TZOFFSETTO:-0600
TZNAME:CST
DTSTART:20271107T070000
END:STANDARD
END:VTIMEZONE
BEGIN:VEVENT
DTSTART;TZID=America/North_Dakota/Center:20260314T070000
DTEND;TZID=America/North_Dakota/Center:20260314T170000
DTSTAMP:20260421T172423
CREATED:20260303T175324Z
LAST-MODIFIED:20260309T142056Z
UID:12018-1773471600-1773507600@beatoday.com
SUMMARY:Trout Tournament
DESCRIPTION:    Last Trout Tournament of the Season\nMarch 14\, 7:00 a.m. – 5:00 p.m. \nThe largest trout caught wins a Zebco 202 rod & reel combo. You must be a member and register your catch with the ranger\, and fish must be legal size and alive \n 
URL:https://beatoday.com/event/trout-tournament-3/
LOCATION:SBEA Lake – Recreation Area – Lake\, 4226 S Gold St\, Wichita\, KS\, 67217\, United States
CATEGORIES:Fishing Tournaments,Lake
END:VEVENT
END:VCALENDAR